Workbook

Sheet 선박입출항
A1: 선박입항현황
A7: (2025년도 12월말 현재)
A10: (단위 : 척, 천톤)
A11: 연 도 별 | C11: 2024년도 | E11: 전 년 대 비
E12: 2 0 2 4 1-12월 | G12: 2 0 2 5 1-12월 | I12: %
A13: 항 별 | C13: 척 | D13: 천톤 | E13: 척 | F13: 천톤 | G13: 척 | H13: 천톤 | I13: 척 | J13: 천톤
A14: 총 계 | B14: 외항선 | C14: =C17+C20 -> 1900 | D14: =D17+D20 -> 41058 | E14: =E17+E20 -> 1900 | F14: =F17+F20 -> 41058 | G14: =G17+G20 -> 1829 | H14: =H17+H20 -> 39898 | I14: =G14/E14*100 -> 96.263158 | J14: =H14/F14*100 -> 97.174728
B15: 연안선 | C15: =C18+C21 -> 2284 | D15: =D18+D21 -> 4514 | E15: =E18+E21 -> 2284 | F15: =F18+F21 -> 4514 | G15: =G18+G21 -> 2129 | H15: =H18+H21 -> 4169 | I15: =G15/E15*100 -> 93.21366 | J15: =H15/F15*100 -> 92.357111
B16: 계 | C16: =C14+C15 -> 4184 | D16: =D14+D15 -> 45572 | E16: =E14+E15 -> 4184 | F16: =F14+F15 -> 45572 | G16: =G14+G15 -> 3958 | H16: =H14+H15 -> 44067 | I16: =G16/E16*100 -> 94.59847 | J16: =H16/F16*100 -> 96.697534
A17: 군 산 항 | B17: 외항선 | C17: 1834 | D17: 40815 | E17: 1834 | F17: 40815 | G17: 1763 | H17: 39673 | I17: =(G17/E17)*100 -> 96.12868 | J17: =(H17/F17)*100 -> 97.202009
B18: 연안선 | C18: 2172 | D18: 4236 | E18: 2172 | F18: 4236 | G18: 2033 | H18: 3887 | I18: =(G18/E18)*100 -> 93.600368 | J18: =(H18/F18)*100 -> 91.761095
B19: 계 | C19: =C17+C18 -> 4006 | D19: =D17+D18 -> 45051 | E19: =E17+E18 -> 4006 | F19: =F17+F18 -> 45051 | G19: =G17+G18 -> 3796 | H19: =H17+H18 -> 43560 | I19: =(G19/E19)*100 -> 94.757863 | J19: =(H19/F19)*100 -> 96.690418
A20: 장 항 항 | B20: 외항선 | C20: 66 | D20: 243 | E20: 66 | F20: 243 | G20: 66 | H20: 225 | I20: 93.650794 | J20: 87.772926
B21: 연안선 | C21: 112 | D21: 278 | E21: 112 | F21: 278 | G21: 96 | H21: 282 | I21: 76.470588 | J21: 95.652174
B22: 계 | C22: =SUM(C20:C21) -> 178 | D22: =SUM(D20:D21) -> 521 | E22: =SUM(E20:E21) -> 178 | F22: =SUM(F20:F21) -> 521 | G22: =SUM(G20:G21) -> 162 | H22: =SUM(H20:H21) -> 507 | I22: 82.417582 | J22: 92.079208

Sheet 군산청
A2: 화물처리실적현황
A6: (2025년도 12월말 현재)
A7: 【군산청】 | H7: (단위:천톤,%)
A8: 구 분 | C8: 2024년도 | D8: 2024년도 (1-12월) | H8: 2025년도 (1-12월) | L8: 전년대비 (%)
D11: 합계 | E11: 수입 | F11: 수출 | G11: 연안 | H11: 합계 | I11: 수입 | J11: 수출 | K11: 연안
A12: 합 계 | C12: =군산항!C12+장항항!C12 -> 22840 | D12: =군산항!D12+장항항!D12 -> 22840 | E12: =군산항!E12+장항항!E12 -> 15677 | F12: =군산항!F12+장항항!F12 -> 3010 | G12: =군산항!G12+장항항!G12 -> 4153 | H12: =군산항!H12+장항항!H12 -> 22142 | I12: =군산항!I12+장항항!I12 -> 14860 | J12: =군산항!J12+장항항!J12 -> 3404 | K12: =군산항!K12+장항항!K12 -> 3878 | L12: =H12/D12*100 -> 96.943958
A13: 양 곡 | C13: =군산항!C13+장항항!C13 -> 971 | D13: =군산항!D13+장항항!D13 -> 971 | E13: =군산항!E13+장항항!E13 -> 931 | F13: =군산항!F13+장항항!F13 -> 39 | G13: =군산항!G13+장항항!G13 -> 1 | H13: =군산항!H13+장항항!H13 -> 836 | I13: =군산항!I13+장항항!I13 -> 777 | J13: =군산항!J13+장항항!J13 -> 59 | K13: =군산항!K13+장항항!K13 -> 0 | L13: =H13/D13*100 -> 86.096807
B14: 옥수수 | C14: =군산항!C14+장항항!C14 -> 804 | D14: =군산항!D14+장항항!D14 -> 804 | E14: =군산항!E14+장항항!E14 -> 804 | F14: =군산항!F14+장항항!F14 -> 0 | G14: =군산항!G14+장항항!G14 -> 0 | H14: =군산항!H14+장항항!H14 -> 623 | I14: =군산항!I14+장항항!I14 -> 623 | J14: =군산항!J14+장항항!J14 -> 0 | K14: =군산항!K14+장항항!K14 -> 0 | L14: =H14/D14*100 -> 77.487562
B15: 기 타 | C15: =군산항!C15+장항항!C15 -> 167 | D15: =군산항!D15+장항항!D15 -> 167 | E15: =군산항!E15+장항항!E15 -> 127 | F15: =군산항!F15+장항항!F15 -> 39 | G15: =군산항!G15+장항항!G15 -> 1 | H15: =군산항!H15+장항항!H15 -> 213 | I15: =군산항!I15+장항항!I15 -> 154 | J15: =군산항!J15+장항항!J15 -> 59 | K15: =군산항!K15+장항항!K15 -> 0 | L15: =IF(D15=0,"",H15/D15*100) -> 127.54491
A16: 사 료 | C16: =군산항!C16+장항항!C16 -> 5655 | D16: =군산항!D16+장항항!D16 -> 5655 | E16: =군산항!E16+장항항!E16 -> 5594 | F16: =군산항!F16+장항항!F16 -> 18 | G16: =군산항!G16+장항항!G16 -> 43 | H16: =군산항!H16+장항항!H16 -> 5431 | I16: =군산항!I16+장항항!I16 -> 5337 | J16: =군산항!J16+장항항!J16 -> 21 | K16: =군산항!K16+장항항!K16 -> 73 | L16: =H16/D16*100 -> 96.038904
B17: 옥수수 | C17: =군산항!C17+장항항!C17 -> 2919 | D17: =군산항!D17+장항항!D17 -> 2919 | E17: =군산항!E17+장항항!E17 -> 2880 | F17: =군산항!F17+장항항!F17 -> 0 | G17: =군산항!G17+장항항!G17 -> 39 | H17: =군산항!H17+장항항!H17 -> 2802 | I17: =군산항!I17+장항항!I17 -> 2731 | J17: =군산항!J17+장항항!J17 -> 0 | K17: =군산항!K17+장항항!K17 -> 71 | L17: =H17/D17*100 -> 95.991778
B18: 기 타 | C18: =군산항!C18+장항항!C18 -> 2736 | D18: =군산항!D18+장항항!D18 -> 2736 | E18: =군산항!E18+장항항!E18 -> 2714 | F18: =군산항!F18+장항항!F18 -> 18 | G18: =군산항!G18+장항항!G18 -> 4 | H18: =군산항!H18+장항항!H18 -> 2629 | I18: =군산항!I18+장항항!I18 -> 2606 | J18: =군산항!J18+장항항!J18 -> 21 | K18: =군산항!K18+장항항!K18 -> 2 | L18: =H18/D18*100 -> 96.089181
A19: 유 연 탄 | C19: =군산항!C19+장항항!C19 -> 2631 | D19: =군산항!D19+장항항!D19 -> 2631 | E19: =군산항!E19+장항항!E19 -> 1718 | F19: =군산항!F19+장항항!F19 -> 0 | G19: =군산항!G19+장항항!G19 -> 913 | H19: =군산항!H19+장항항!H19 -> 2446 | I19: =군산항!I19+장항항!I19 -> 1584 | J19: =군산항!J19+장항항!J19 -> 0 | K19: =군산항!K19+장항항!K19 -> 862 | L19: =H19/D19*100 -> 92.968453
A20: 시 멘 트 | C20: =군산항!C20+장항항!C20 -> 1515 | D20: =군산항!D20+장항항!D20 -> 1515 | E20: =군산항!E20+장항항!E20 -> 0 | F20: =군산항!F20+장항항!F20 -> 0 | G20: =군산항!G20+장항항!G20 -> 1515 | H20: =군산항!H20+장항항!H20 -> 1175 | I20: =군산항!I20+장항항!I20 -> 0 | J20: =군산항!J20+장항항!J20 -> 0 | K20: =군산항!K20+장항항!K20 -> 1175 | L20: =H20/D20*100 -> 77.557756
A21: 슬 래 그 | C21: =군산항!C21+장항항!C21 -> 434 | D21: =군산항!D21+장항항!D21 -> 434 | E21: =군산항!E21+장항항!E21 -> 145 | F21: =군산항!F21+장항항!F21 -> 0 | G21: =군산항!G21+장항항!G21 -> 289 | H21: =군산항!H21+장항항!H21 -> 298 | I21: =군산항!I21+장항항!I21 -> 68 | J21: =군산항!J21+장항항!J21 -> 0 | K21: =군산항!K21+장항항!K21 -> 230 | L21: =H21/D21*100 -> 68.663594
A22: 광 석 류 | C22: =군산항!C22+장항항!C22 -> 914 | D22: =군산항!D22+장항항!D22 -> 914 | E22: =군산항!E22+장항항!E22 -> 736 | F22: =군산항!F22+장항항!F22 -> 39 | G22: =군산항!G22+장항항!G22 -> 139 | H22: =군산항!H22+장항항!H22 -> 913 | I22: =군산항!I22+장항항!I22 -> 681 | J22: =군산항!J22+장항항!J22 -> 39 | K22: =군산항!K22+장항항!K22 -> 193 | L22: =H22/D22*100 -> 99.890591
A23: 모 래 | C23: =군산항!C23+장항항!C23 -> 32 | D23: =군산항!D23+장항항!D23 -> 32 | E23: =군산항!E23+장항항!E23 -> 0 | F23: =군산항!F23+장항항!F23 -> 0 | G23: =군산항!G23+장항항!G23 -> 32 | H23: =군산항!H23+장항항!H23 -> 191 | I23: =군산항!I23+장항항!I23 -> 0 | J23: =군산항!J23+장항항!J23 -> 0 | K23: =군산항!K23+장항항!K23 -> 191 | L23: =H23/D23*100 -> 596.875
A24: 원 목 | C24: =군산항!C24+장항항!C24 -> 410 | D24: =군산항!D24+장항항!D24 -> 410 | E24: =군산항!E24+장항항!E24 -> 410 | F24: =군산항!F24+장항항!F24 -> 0 | G24: =군산항!G24+장항항!G24 -> 0 | H24: =군산항!H24+장항항!H24 -> 394 | I24: =군산항!I24+장항항!I24 -> 394 | J24: =군산항!J24+장항항!J24 -> 0 | K24: =군산항!K24+장항항!K24 -> 0 | L24: =H24/D24*100 -> 96.097561
A25: 목재및목탄 | C25: =군산항!C25+장항항!C25 -> 1142 | D25: =군산항!D25+장항항!D25 -> 1142 | E25: =군산항!E25+장항항!E25 -> 940 | F25: =군산항!F25+장항항!F25 -> 199 | G25: =군산항!G25+장항항!G25 -> 3 | H25: =군산항!H25+장항항!H25 -> 628 | I25: =군산항!I25+장항항!I25 -> 543 | J25: =군산항!J25+장항항!J25 -> 83 | K25: =군산항!K25+장항항!K25 -> 2 | L25: =H25/D25*100 -> 54.991243
A26: 펄 프 | C26: =군산항!C26+장항항!C26 -> 723 | D26: =군산항!D26+장항항!D26 -> 723 | E26: =군산항!E26+장항항!E26 -> 723 | F26: =군산항!F26+장항항!F26 -> 0 | G26: =군산항!G26+장항항!G26 -> 0 | H26: =군산항!H26+장항항!H26 -> 718 | I26: =군산항!I26+장항항!I26 -> 718 | J26: =군산항!J26+장항항!J26 -> 0 | K26: =군산항!K26+장항항!K26 -> 0 | L26: =H26/D26*100 -> 99.308437
A27: 고 철 | C27: =군산항!C27+장항항!C27 -> 276 | D27: =군산항!D27+장항항!D27 -> 276 | E27: =군산항!E27+장항항!E27 -> 253 | F27: =군산항!F27+장항항!F27 -> 3 | G27: =군산항!G27+장항항!G27 -> 20 | H27: =군산항!H27+장항항!H27 -> 298 | I27: =군산항!I27+장항항!I27 -> 272 | J27: =군산항!J27+장항항!J27 -> 0 | K27: =군산항!K27+장항항!K27 -> 26 | L27: =H27/D27*100 -> 107.97101
A28: 철 강 류 | C28: =군산항!C28+장항항!C28 -> 554 | D28: =군산항!D28+장항항!D28 -> 554 | E28: =군산항!E28+장항항!E28 -> 440 | F28: =군산항!F28+장항항!F28 -> 50 | G28: =군산항!G28+장항항!G28 -> 64 | H28: =군산항!H28+장항항!H28 -> 420 | I28: =군산항!I28+장항항!I28 -> 319 | J28: =군산항!J28+장항항!J28 -> 15 | K28: =군산항!K28+장항항!K28 -> 86 | L28: =H28/D28*100 -> 75.812274
A29: 차량및부품 | C29: =군산항!C29+장항항!C29 -> 4133 | D29: =군산항!D29+장항항!E29 -> 4133 | E29: =군산항!E29+장항항!F29 -> 1953 | F29: =군산항!F29+장항항!G29 -> 2179 | G29: =군산항!G29+장항항!G29 -> 1 | H29: =군산항!H29+장항항!I29 -> 4996 | I29: =군산항!I29+장항항!J29 -> 2299 | J29: =군산항!J29+장항항!K29 -> 2694 | K29: =군산항!K29+장항항!K29 -> 3 | L29: =H29/D29*100 -> 120.88072
A30: 화공생산품 | C30: =군산항!C30+장항항!C30 -> 440 | D30: =군산항!D30+장항항!D30 -> 440 | E30: =군산항!E30+장항항!E30 -> 333 | F30: =군산항!F30+장항항!F30 -> 58 | G30: =군산항!G30+장항항!G30 -> 49 | H30: =군산항!H30+장항항!H30 -> 428 | I30: =군산항!I30+장항항!I30 -> 346 | J30: =군산항!J30+장항항!J30 -> 34 | K30: =군산항!K30+장항항!K30 -> 48 | L30: =H30/D30*100 -> 97.272727
A31: 당 류 | C31: =군산항!C31+장항항!C31 -> 247 | D31: =군산항!D31+장항항!D31 -> 247 | E31: =군산항!E31+장항항!E31 -> 247 | F31: =군산항!F31+장항항!F31 -> 0 | G31: =군산항!G31+장항항!G31 -> 0 | H31: =군산항!H31+장항항!H31 -> 231 | I31: =군산항!I31+장항항!I31 -> 231 | J31: =군산항!J31+장항항!J31 -> 0 | K31: =군산항!K31+장항항!K31 -> 0 | L31: =H31/D31*100 -> 93.522267
A32: 비 료 | C32: =군산항!C32+장항항!C32 -> 324 | D32: =군산항!D32+장항항!D32 -> 324 | E32: =군산항!E32+장항항!E32 -> 320 | F32: =군산항!F32+장항항!F32 -> 0 | G32: =군산항!G32+장항항!G32 -> 4 | H32: =군산항!H32+장항항!H32 -> 349 | I32: =군산항!I32+장항항!I32 -> 338 | J32: =군산항!J32+장항항!J32 -> 6 | K32: =군산항!K32+장항항!K32 -> 5 | L32: =H32/D32*100 -> 107.71605
A33: 유 류 | C33: =군산항!C33+장항항!C33 -> 939 | D33: =군산항!D33+장항항!D33 -> 939 | E33: =군산항!E33+장항항!E33 -> 1 | F33: =군산항!F33+장항항!F33 -> 7 | G33: =군산항!G33+장항항!G33 -> 931 | H33: =군산항!H33+장항항!H33 -> 935 | I33: =군산항!I33+장항항!I33 -> 6 | J33: =군산항!J33+장항항!J33 -> 6 | K33: =군산항!K33+장항항!K33 -> 923 | L33: =H33/D33*100 -> 99.574015
A34: 기 타 | C34: =군산항!C34+장항항!C34 -> 1500 | D34: =군산항!D34+장항항!D34 -> 1500 | E34: =군산항!E34+장항항!E34 -> 933 | F34: =군산항!F34+장항항!F34 -> 418 | G34: =군산항!G34+장항항!G34 -> 149 | H34: =군산항!H34+장항항!H34 -> 1455 | I34: =군산항!I34+장항항!I34 -> 947 | J34: =군산항!J34+장항항!J34 -> 447 | K34: =군산항!K34+장항항!K34 -> 61 | L34: =H34/D34*100 -> 97

Sheet 군산항
A2: 화물처리실적현황
A6: (2025년도 12월말 현재)
A7: 【군산항】 | J7: (단위:천톤,%)
A8: 구 분 | C8: 2024년도 | D8: 2024년도 (1-12월) | H8: 2025년도 (1-12월) | L8: 전년대비 (%) | M8: 전년대비 (천톤)
D11: 합계 | E11: 수입 | F11: 수출 | G11: 연안 | H11: 합계 | I11: 수입 | J11: 수출 | K11: 연안
A12: 합 계 | C12: 22256 | D12: =SUM(D13,D16,D19:D34) -> 22256 | E12: 15428 | F12: 2973 | G12: 3855 | H12: =SUM(H13,H16,H19:H34) -> 21614 | I12: 14633 | J12: 3368 | K12: 3613 | L12: =H12/D12*100 -> 97.115385 | M12: =H12-D12 -> -642
A13: 양 곡 | C13: 971 | D13: =E13+F13+G13 -> 971 | E13: 931 | F13: 39 | G13: 1 | H13: =I13+J13+K13 -> 836 | I13: 777 | J13: 59 | K13: 0 | L13: =H13/D13*100 -> 86.096807 | M13: =H13-D13 -> -135
B14: 옥수수 | C14: 804 | D14: =E14+F14+G14 -> 804 | E14: 804 | F14: 0 | G14: 0 | H14: =I14+J14+K14 -> 623 | I14: 623 | J14: 0 | K14: 0 | L14: =H14/D14*100 -> 77.487562 | M14: =H14-D14 -> -181
B15: 기 타 | C15: 167 | D15: =E15+F15+G15 -> 167 | E15: =E13-E14 -> 127 | F15: =F13-F14 -> 39 | G15: =G13-G14 -> 1 | H15: =I15+J15+K15 -> 213 | I15: =I13-I14 -> 154 | J15: =J13-J14 -> 59 | K15: =K13-K14 -> 0 | L15: =H15/D15*100 -> 127.54491 | M15: =H15-D15 -> 46
A16: 사 료 | C16: 5655 | D16: =E16+F16+G16 -> 5655 | E16: 5594 | F16: 18 | G16: 43 | H16: =I16+J16+K16 -> 5431 | I16: 5337 | J16: 21 | K16: 73 | L16: =H16/D16*100 -> 96.038904 | M16: =H16-D16 -> -224
B17: 옥수수 | C17: 2919 | D17: =E17+F17+G17 -> 2919 | E17: 2880 | F17: 0 | G17: 39 | H17: =I17+J17+K17 -> 2802 | I17: 2731 | J17: 0 | K17: 71 | L17: =H17/D17*100 -> 95.991778 | M17: =H17-D17 -> -117
B18: 기 타 | C18: 2736 | D18: =E18+F18+G18 -> 2736 | E18: =E16-E17 -> 2714 | F18: =F16-F17 -> 18 | G18: =G16-G17 -> 4 | H18: =I18+J18+K18 -> 2629 | I18: =I16-I17 -> 2606 | J18: =J16-J17 -> 21 | K18: =K16-K17 -> 2 | L18: =H18/D18*100 -> 96.089181 | M18: =H18-D18 -> -107
A19: 유 연 탄 | C19: 2631 | D19: =E19+F19+G19 -> 2631 | E19: 1718 | F19: 0 | G19: 913 | H19: =I19+J19+K19 -> 2446 | I19: 1584 | J19: 0 | K19: 862 | L19: =H19/D19*100 -> 92.968453 | M19: =H19-D19 -> -185
A20: 시 멘 트 | C20: 1256 | D20: =E20+F20+G20 -> 1256 | E20: 0 | F20: 0 | G20: 1256 | H20: =I20+J20+K20 -> 938 | I20: 0 | J20: 0 | K20: 938 | L20: =H20/D20*100 -> 74.681529 | M20: =H20-D20 -> -318
A21: 슬 래 그 | C21: 434 | D21: =E21+F21+G21 -> 434 | E21: 145 | F21: 0 | G21: 289 | H21: =I21+J21+K21 -> 298 | I21: 68 | J21: 0 | K21: 230 | L21: =H21/D21*100 -> 68.663594 | M21: =H21-D21 -> -136
A22: 광 석 류 | C22: 771 | D22: =E22+F22+G22 -> 771 | E22: 664 | F22: 2 | G22: 105 | H22: =I22+J22+K22 -> 799 | I22: 625 | J22: 3 | K22: 171 | L22: =H22/D22*100 -> 103.63165 | M22: =H22-D22 -> 28
A23: 모 래 | C23: 32 | D23: =E23+F23+G23 -> 32 | E23: 0 | F23: 0 | G23: 32 | H23: =I23+J23+K23 -> 191 | I23: 0 | J23: 0 | K23: 191 | L23: =H23/D23*100 -> 596.875 | M23: =H23-D23 -> 159
A24: 원 목 | C24: 399 | D24: =E24+F24+G24 -> 399 | E24: 399 | F24: 0 | G24: 0 | H24: =I24+J24+K24 -> 389 | I24: 389 | J24: 0 | K24: 0 | L24: =H24/D24*100 -> 97.493734 | M24: =H24-D24 -> -10
A25: 목재및목탄 | C25: 1142 | D25: =E25+F25+G25 -> 1142 | E25: 940 | F25: 199 | G25: 3 | H25: =I25+J25+K25 -> 626 | I25: 541 | J25: 83 | K25: 2 | L25: =H25/D25*100 -> 54.816112 | M25: =H25-D25 -> -516
A26: 펄 프 | C26: 723 | D26: =E26+F26+G26 -> 723 | E26: 723 | F26: 0 | G26: 0 | H26: =I26+J26+K26 -> 718 | I26: 718 | J26: 0 | K26: 0 | L26: =H26/D26*100 -> 99.308437 | M26: =H26-D26 -> -5
A27: 고 철 | C27: 276 | D27: =E27+F27+G27 -> 276 | E27: 253 | F27: 3 | G27: 20 | H27: =I27+J27+K27 -> 298 | I27: 272 | J27: 0 | K27: 26 | L27: =H27/D27*100 -> 107.97101 | M27: =H27-D27 -> 22
A28: 철 강 류 | C28: 554 | D28: =E28+F28+G28 -> 554 | E28: 440 | F28: 50 | G28: 64 | H28: =I28+J28+K28 -> 420 | I28: 319 | J28: 15 | K28: 86 | L28: =H28/D28*100 -> 75.812274 | M28: =H28-D28 -> -134
A29: 차량및부품 | C29: 4133 | D29: =E29+F29+G29 -> 4133 | E29: 1953 | F29: 2179 | G29: 1 | H29: =I29+J29+K29 -> 4996 | I29: 2299 | J29: 2694 | K29: 3 | L29: =H29/D29*100 -> 120.88072 | M29: =H29-D29 -> 863
A30: 화공생산품 | C30: 440 | D30: =E30+F30+G30 -> 440 | E30: 333 | F30: 58 | G30: 49 | H30: =I30+J30+K30 -> 428 | I30: 346 | J30: 34 | K30: 48 | L30: =H30/D30*100 -> 97.272727 | M30: =H30-D30 -> -12
... A33: 유 류 | C33: 939 | D33: =E33+F33+G33 -> 939 | E33: 1 | F33: 7 | G33: 931 | H33: =I33+J33+K33 -> 935 | I33: 6 | J33: 6 | K33: 923 | L33: =H33/D33*100 -> 99.574015 | M33: =H33-D33 -> -4
A34: 기 타 | C34: 1499 | D34: =SUM(E34:G34) -> 1499 | E34: =(E12-SUM(E13,E16,E19:E33)) -> 933 | F34: =F12-F13-F16-F19-F20-F21-F22-F23-F24-F25-F26-F27-F28-F29-F30-F31-F32-F33 -> 418 | G34: =(G12-SUM(G13,G16,G19:G33)) -> 148 | H34: =SUM(I34:K34) -> 1454 | I34: =(I12-SUM(I13,I16,I19:I33)) -> 947 | J34: =J12-J13-J16-J19-J20-J21-J22-J23-J24-J25-J26-J27-J28-J29-J30-J31-J32-J33 -> 447 | K34: =(K12-SUM(K13,K16,K19:K33)) -> 60 | L34: =H34/D34*100 -> 96.997999 | M34: =H34-D34 -> -45

Sheet 장항항
A2: 화물처리실적현황
A6: (2025년도 12월말 현재)
A7: 【장항항】 | J7: (단위:천톤,%)
A8: 구 분 | C8: 2024년도 | D8: 2024도 (12월 누계) | H8: 2025년도 (12월 누계) | L8: 전년대비 (%)
D11: 합계 | E11: 수입 | F11: 수출 | G11: 연안 | H11: 합계 | I11: 수입 | J11: 수출 | K11: 연안
A12: 합 계 | C12: 584 | D12: =SUM(D19:D34) -> 584 | E12: =SUM(E19:E34) -> 249 | F12: =F13+F16+F20+F22+F24+F32+F34 -> 37 | G12: =G20+G22+G24+G32+G34 -> 298 | H12: =SUM(H19:H34) -> 528 | I12: =SUM(I19:I34) -> 227 | J12: =SUM(J19:J34) -> 36 | K12: =SUM(K19:K34) -> 265 | L12: =H12/D12*100 -> 90.410959
A13: 양 곡 | C13: 0 | D13: 0 | E13: 0 | F13: 0 | G13: 0 | H13: 0 | I13: 0 | J13: 0 | K13: 0 | L13: 0
B14: 옥수수 | C14: 0 | D14: 0 | E14: 0 | F14: 0 | G14: 0 | H14: 0 | I14: 0 | J14: 0 | K14: 0 | L14: 0
B15: 기 타 | C15: 0 | D15: 0 | E15: 0 | F15: 0 | G15: 0 | H15: 0 | I15: 0 | J15: 0 | K15: 0 | L15: 0
A16: 사 료 | C16: 0 | D16: 0 | E16: 0 | F16: 0 | G16: 0 | H16: 0 | I16: 0 | J16: 0 | K16: 0 | L16: 0
B17: 옥수수 | C17: 0 | D17: 0 | E17: 0 | F17: 0 | G17: 0 | H17: 0 | I17: 0 | J17: 0 | K17: 0 | L17: 0
B18: 기 타 | C18: 0 | D18: 0 | E18: 0 | F18: 0 | G18: 0 | H18: 0 | I18: 0 | J18: 0 | K18: 0 | L18: 0
A19: 유 연 탄 | C19: 0 | D19: 0 | E19: 0 | F19: 0 | G19: 0 | H19: 0 | I19: 0 | J19: 0 | K19: 0 | L19: 0
A20: 시 멘 트 | C20: 259 | D20: =E20+F20+G20 -> 259 | E20: 0 | F20: 0 | G20: 259 | H20: =I20+J20+K20 -> 237 | I20: 0 | J20: 0 | K20: 237 | L20: =H20/D20*100 -> 91.505792
A21: 슬 래 그 | C21: 0 | D21: 0 | E21: 0 | F21: 0 | G21: 0 | H21: 0 | I21: 0 | J21: 0 | K21: 0 | L21: 0
A22: 광 석 류 | C22: 143 | D22: =E22+F22+G22 -> 143 | E22: 72 | F22: 37 | G22: 34 | H22: =I22+J22+K22 -> 114 | I22: 56 | J22: 36 | K22: 22 | L22: =H22/D22*100 -> 79.72028
A23: 모 래 | C23: 0 | D23: 0 | E23: 0 | F23: 0 | G23: 0 | H23: 0 | I23: 0 | J23: 0 | K23: 0 | L23: 0
A24: 원 목 | C24: 11 | D24: =SUM(E24:G24) -> 11 | E24: 11 | F24: 0 | G24: 0 | H24: =SUM(I24:K24) -> 5 | I24: 5 | J24: 0 | K24: 0 | L24: =H24/D24*100 -> 45.454545
A25: 목재및목탄 | C25: 0 | D25: 0 | E25: 0 | F25: 0 | G25: 0 | H25: =SUM(I25:K25) -> 2 | I25: 2 | J25: 0 | K25: 0 | L25: =H25/D25*100 -> #DIV/0!
A26: 펄 프 | C26: 0 | D26: 0 | E26: 0 | F26: 0 | G26: 0 | H26: 0 | I26: 0 | J26: 0 | K26: 0 | L26: 0
A27: 고 철 | C27: 0 | D27: 0 | E27: 0 | F27: 0 | G27: 0 | H27: 0 | I27: 0 | J27: 0 | K27: 0 | L27: 0
A28: 철 강 류 | C28: 0 | D28: 0 | E28: 0 | F28: 0 | G28: 0 | H28: 0 | I28: 0 | J28: 0 | K28: 0 | L28: 0
A29: 차량및부품 | C29: 0 | D29: 0 | E29: 0 | F29: 0 | G29: 0 | H29: 0 | I29: 0 | J29: 0 | K29: 0 | L29: 0
A30: 화공생산품 | C30: 0 | D30: =E30+F30+G30 -> 0 | E30: 0 | F30: 0 | G30: 0 | H30: =SUM(I30:K30) -> 0 | I30: 0 | J30: 0 | K30: 0 | L30: =I30/E30*100 -> #DIV/0!
A31: 당 류 | C31: 0 | D31: 0 | E31: 0 | F31: 0 | G31: 0 | H31: 0 | I31: 0 | J31: 0 | K31: 0 | L31: 0
A32: 비 료 | C32: 170 | D32: =E32+F32+G32 -> 170 | E32: 166 | F32: 0 | G32: 4 | H32: =SUM(I32:K32) -> 169 | I32: 164 | J32: 0 | K32: 5 | L32: =H32/D32*100 -> 99.411765
A33: 유 류 | C33: 0 | D33: 0 | E33: 0 | F33: 0 | G33: 0 | H33: 0 | I33: 0 | J33: 0 | K33: 0 | L33: 0
A34: 기 타 | C34: 1 | D34: =E34+F34+G34 -> 1 | E34: 0 | F34: 0 | G34: 1 | H34: =I34+J34+K34 -> 1 | I34: 0 | J34: 0 | K34: 1 | L34: =H34/D34*100 -> 100

Sheet 대중국교역현황
A3: 대 중 국 교 역 현 황
A7: 1. 선박 입·출항
F8: (단위:척)
A9: 년 도 | B9: 2022 | C9: 2023 | D9: 2024 | E9: 전 년 대 비
E10: 2024.1-12월 | F10: 2025.1-12월 | G10: %
A11: 척 수 | B11: 688 | C11: 734 | D11: 756 | E11: 756 | F11: 766 | G11: =F11/E11*100 -> 101.32275
A13: 2. 화물 입·출항
F14: (단위:천톤)
A15: 구 분 | B15: 2022 | C15: 2023 | D15: 2024 | E15: 전 년 대 비
E16: 2024.1-12월 | F16: 2025.1-12월 | G16: %
A17: 계 | B17: 2184 | C17: =C18+C21 -> 2971 | D17: 2569 | E17: =E18+E21 -> 2569 | F17: =F18+F21 -> 3093 | G17: =F17/E17*100 -> 120.39704
A18: 수 출 | B18: 270 | C18: 296 | D18: 382 | E18: 382 | F18: 232 | G18: =F18/E18*100 -> 60.732984
A19: 차량 및 부품 | B19: 51 | C19: 90 | D19: 192 | E19: 192 | F19: 44 | G19: =F19/E19*100 -> 22.916667
A20: 기 타 | B20: =B18-B19 -> 219 | C20: =C18-C19 -> 206 | D20: 190 | E20: =E18-E19 -> 190 | F20: =F18-F19 -> 188 | G20: =F20/E20*100 -> 98.947368
A21: 수 입 | B21: 1914 | C21: 2675 | D21: 2187 | E21: 2187 | F21: 2861 | G21: =F21/E21*100 -> 130.81847
A22: 음료.주류.조제식품 | B22: 374 | C22: 421 | D22: 414 | E22: 414 | F22: 431 | G22: =F22/E22*100 -> 104.10628
A23: 기타광석 및 생산품 | B23: 214 | C23: 577 | D23: 154 | E23: 154 | F23: 67 | G23: =F23/E23*100 -> 43.506494
A24: 시 멘 트 | B24: 7 | C24: 0 | D24: 0 | E24: 0 | F24: 0 | G24: =F24/E24*100 -> #DIV/0!
A25: 화학공업생산품 | B25: 97 | C25: 174 | D25: 135 | E25: 135 | F25: 178 | G25: =F25/E25*100 -> 131.85185
A26: 철강 및 그제품 | B26: 176 | C26: 269 | D26: 278 | E26: 278 | F26: 225 | G26: =F26/E26*100 -> 80.935252
A27: 고 철 | B27: 10 | C27: 0 | D27: 0 | E27: 0 | F27: 0 | G27: =F27/E27*100 -> #DIV/0!
A28: 기타 동.식물생산품 | B28: 52 | C28: 51 | D28: 35 | E28: 35 | F28: 28 | G28: =F28/E28*100 -> 80
A29: 기계류 및 그 부품 | B29: 74 | C29: 72 | D29: 99 | E29: 99 | F29: 90 | G29: =F29/E29*100 -> 90.909091
A30: 기 타 | B30: =B21-B22-B23-B24-B25-B26-B27-B28-B29 -> 910 | C30: =C21-C22-C23-C24-C25-C26-C27-C28-C29 -> 1111 | D30: 1072 | E30: =E21-E22-E23-E24-E25-E26-E27-E28-E29 -> 1072 | F30: =F21-F22-F23-F24-F25-F26-F27-F28-F29 -> 1842 | G30: =F30/E30*100 -> 171.82836
A32: ※ 대중국 교역물량의 군산항 전체물량 점유비율 | E32: ="= "&TRUNC((F17/SUM(군산항!J12,군산항!I12)*100),0)&"% "&"("&F17&"천톤/"&SUM(군산항!I12,군산항!J12)&"천톤)" -> = 17% (3093천톤/18001천톤)

Sheet 군산항(월,누계)
A1: 󰏚 품목별 처리현황
A2: ◇ 총 괄
H3: (단위 : 천톤, %)
A4: 구 분 | C4: 2024년도 | E4: 2025년도
D5: 1-12월 | G5: 1-12월
C6: 12월 | D6: 누계 | E6: 12월 | F6: 전년 대비 (%) | G6: 누계 | H6: 전년 대비 (%)
A7: 합 계 | C7: =C36+C65+C94 -> 1955 | D7: =D36+D65+D94 -> 22256 | E7: =E36+E65+E94 -> 1970 | F7: =E7/C7*100 -> 100.76726 | G7: =G36+G65+G94 -> 21614 | H7: =G7/D7*100 -> 97.115385
A8: 양 곡 | C8: =C37+C66+C95 -> 93 | D8: =D37+D66+D95 -> 971 | E8: =E37+E66+E95 -> 117 | F8: =E8/C8*100 -> 125.80645 | G8: =G37+G66+G95 -> 836 | H8: =G8/D8*100 -> 86.096807
B9: 옥수수 | C9: =C38+C67+C96 -> 92 | D9: =D38+D67+D96 -> 804 | E9: =E38+E67+E96 -> 72 | F9: =E9/C9*100 -> 78.26087 | G9: =G38+G67+G96 -> 623 | H9: =G9/D9*100 -> 77.487562
B10: 기 타 | C10: =C39+C68+C97 -> 1 | D10: =D39+D68+D97 -> 167 | E10: =E39+E68+E97 -> 45 | F10: =E10/C10*100 -> 4500 | G10: =G39+G68+G97 -> 213 | H10: =G10/D10*100 -> 127.54491
A11: 사 료 | C11: =C40+C69+C98 -> 510 | D11: =D40+D69+D98 -> 5655 | E11: =E40+E69+E98 -> 438 | F11: =E11/C11*100 -> 85.882353 | G11: =G40+G69+G98 -> 5431 | H11: =G11/D11*100 -> 96.038904
B12: 옥수수 | C12: =C41+C70+C99 -> 254 | D12: =D41+D70+D99 -> 2919 | E12: =E41+E70+E99 -> 180 | F12: =E12/C12*100 -> 70.866142 | G12: =G41+G70+G99 -> 2802 | H12: =G12/D12*100 -> 95.991778
B13: 기 타 | C13: =C42+C71+C100 -> 256 | D13: =D42+D71+D100 -> 2736 | E13: =E42+E71+E100 -> 258 | F13: =E13/C13*100 -> 100.78125 | G13: =G42+G71+G100 -> 2629 | H13: =G13/D13*100 -> 96.089181
A14: 유 연 탄 | C14: =C43+C72+C101 -> 1125 | D14: =D43+D72+D101 -> 2631 | E14: =E43+E72+E101 -> 178 | F14: =E14/C14*100 -> 15.822222 | G14: =G43+G72+G101 -> 2446 | H14: =G14/D14*100 -> 92.968453
A15: 시 멘 트 | C15: =C44+C73+C102 -> 1256 | D15: =D44+D73+D102 -> 1256 | E15: =E44+E73+E102 -> 90 | F15: =E15/C15*100 -> 7.1656051 | G15: =G44+G73+G102 -> 938 | H15: =G15/D15*100 -> 74.681529
A16: 슬 래 그 | C16: =C45+C74+C103 -> 294 | D16: =D45+D74+D103 -> 434 | E16: =E45+E74+E103 -> 18 | F16: =E16/C16*100 -> 6.122449 | G16: =G45+G74+G103 -> 298 | H16: =G16/D16*100 -> 68.663594
A17: 광 석 류 | C17: =C46+C75+C104 -> 226 | D17: =D46+D75+D104 -> 771 | E17: =E46+E75+E104 -> 85 | F17: =E17/C17*100 -> 37.610619 | G17: =G46+G75+G104 -> 799 | H17: =G17/D17*100 -> 103.63165
A18: 모 래 | C18: =C47+C76+C105 -> 32 | D18: =D47+D76+D105 -> 32 | E18: =E47+E76+E105 -> 17 | F18: =E18/C18*100 -> 53.125 | G18: =G47+G76+G105 -> 191 | H18: =G18/D18*100 -> 596.875
A19: 원 목 | C19: =C48+C77+C106 -> 42 | D19: =D48+D77+D106 -> 399 | E19: =E48+E77+E106 -> 35 | F19: =E19/C19*100 -> 83.333333 | G19: =G48+G77+G106 -> 389 | H19: =G19/D19*100 -> 97.493734
A20: 목재및목탄 | C20: =C49+C78+C107 -> 131 | D20: =D49+D78+D107 -> 1142 | E20: =E49+E78+E107 -> 67 | F20: =E20/C20*100 -> 51.145038 | G20: =G49+G78+G107 -> 626 | H20: =G20/D20*100 -> 54.816112
A21: 펄 프 | C21: =C50+C79+C108 -> 38 | D21: =D50+D79+D108 -> 723 | E21: =E50+E79+E108 -> 71 | F21: =E21/C21*100 -> 186.84211 | G21: =G50+G79+G108 -> 718 | H21: =G21/D21*100 -> 99.308437
A22: 고 철 | C22: =C51+C80+C109 -> 42 | D22: =D51+D80+D109 -> 276 | E22: =E51+E80+E109 -> 21 | F22: =E22/C22*100 -> 50 | G22: =G51+G80+G109 -> 298 | H22: =G22/D22*100 -> 107.97101
A23: 철 강 류 | C23: =C52+C81+C110 -> 109 | D23: =D52+D81+D110 -> 554 | E23: =E52+E81+E110 -> 45 | F23: =E23/C23*100 -> 41.284404 | G23: =G52+G81+G110 -> 420 | H23: =G23/D23*100 -> 75.812274
A24: 차량및부품 | C24: =C53+C82+C111 -> 443 | D24: =D53+D82+D111 -> 4133 | E24: =E53+E82+E111 -> 481 | F24: =E24/C24*100 -> 108.57788 | G24: =G53+G82+G111 -> 4996 | H24: =G24/D24*100 -> 120.88072
A25: 화공생산품 | C25: =C54+C83+C112 -> 106 | D25: =D54+D83+D112 -> 440 | E25: =E54+E83+E112 -> 51 | F25: =E25/C25*100 -> 48.113208 | G25: =G54+G83+G112 -> 428 | H25: =G25/D25*100 -> 97.272727
... A28: 유 류 | C28: =C57+C86+C115 -> 931 | D28: =D57+D86+D115 -> 939 | E28: =E57+E86+E115 -> 88 | F28: =E28/C28*100 -> 9.4522019 | G28: =G57+G86+G115 -> 935 | H28: =G28/D28*100 -> 99.574015
A29: 기 타 | C29: =C58+C87+C116 -> 297 | D29: =D58+D87+D116 -> 1499 | E29: =E7-E8-E11-E14-E15-E16-E17-E18-E19-E20-E21-E22-E23-E24-E25-E26-E27-E28 -> 135 | F29: =E29/C29*100 -> 45.454545 | G29: =G58+G87+G116 -> 1454 | H29: =G29/D29*100 -> 96.997999
A31: ◇ 수 입
G32: (단위 : 천톤, %)
A33: 구 분 | C33: 2024년도 | E33: 2025년도
D34: 1-12월 | G34: 1-12월
C35: 12월 | D35: 누계 | E35: 12월 | F35: 전년 대비 (%) | G35: 누계 | H35: 전년 대비 (%)
A36: 합 계 | C36: =D36-기타!B3 -> 1538 | D36: =군산항!E12 -> 15428 | E36: =G36-기타!F3 -> 1327 | F36: =E36/C36*100 -> 86.280884 | G36: =군산항!I12 -> 14633 | H36: =G36/D36*100 -> 94.847031
A37: 양 곡 | C37: =D37-기타!B4 -> 92 | D37: =군산항!E13 -> 931 | E37: =G37-기타!F4 -> 117 | F37: =E37/C37*100 -> 127.17391 | G37: =군산항!I13 -> 777 | H37: =G37/D37*100 -> 83.458647
B38: 옥수수 | C38: =D38-기타!B5 -> 92 | D38: =군산항!E14 -> 804 | E38: =G38-기타!F5 -> 72 | F38: =E38/C38*100 -> 78.26087 | G38: =군산항!I14 -> 623 | H38: =G38/D38*100 -> 77.487562
B39: 기 타 | C39: =D39-기타!B6 -> 0 | D39: =군산항!E15 -> 127 | E39: =G39-기타!F6 -> 45 | F39: =E39/C39*100 -> #DIV/0! | G39: =군산항!I15 -> 154 | H39: =G39/D39*100 -> 121.25984
A40: 사 료 | C40: =D40-기타!B7 -> 464 | D40: =군산항!E16 -> 5594 | E40: =G40-기타!F7 -> 429 | F40: =E40/C40*100 -> 92.456897 | G40: =군산항!I16 -> 5337 | H40: =G40/D40*100 -> 95.405792
B41: 옥수수 | C41: =D41-기타!B8 -> 215 | D41: =군산항!E17 -> 2880 | E41: =G41-기타!F8 -> 174 | F41: =E41/C41*100 -> 80.930233 | G41: =군산항!I17 -> 2731 | H41: =G41/D41*100 -> 94.826389
B42: 기 타 | C42: =D42-기타!B9 -> 249 | D42: =군산항!E18 -> 2714 | E42: =G42-기타!F9 -> 255 | F42: =E42/C42*100 -> 102.40964 | G42: =군산항!I18 -> 2606 | H42: =G42/D42*100 -> 96.020634
A43: 유 연 탄 | C43: =D43-기타!B10 -> 212 | D43: =군산항!E19 -> 1718 | E43: =G43-기타!F10 -> 114 | F43: =E43/C43*100 -> 53.773585 | G43: =군산항!I19 -> 1584 | H43: =G43/D43*100 -> 92.200233
...

Sheet 장항항(월,누계)
A1: 󰏚 품목별 처리
A3: ◇ 총 괄
G4: (단위 : 천톤, %)
A5: 구 분 | C5: 2024년도 | E5: 2025년도
D6: 1-12월 | G6: 1-12월
C7: 12월 | D7: 누계 | E7: 12월 | F7: 전년 대비 (%) | G7: 누계 | H7: 전년 대비 (%)
A8: 합 계 | C8: =SUM(C15:C30) -> 66 | D8: =SUM(D15:D30) -> 584 | E8: =SUM(E15:E30) -> 53 | F8: =E8/C8*100 -> 80.30303 | G8: =SUM(G15:G30) -> 528 | H8: =G8/D8*100 -> 90.410959
A9: 양 곡 | C9: 0 | D9: 0 | E9: 0 | F9: 0 | G9: 0 | H9: 0
B10: 옥수수 | C10: 0 | D10: 0 | E10: 0 | F10: 0 | G10: 0 | H10: 0
B11: 기 타 | C11: 0 | D11: 0 | E11: 0 | F11: 0 | G11: 0 | H11: 0
A12: 사 료 | C12: 0 | D12: 0 | E12: 0 | F12: 0 | G12: 0 | H12: 0
B13: 옥수수 | C13: 0 | D13: 0 | E13: 0 | F13: 0 | G13: 0 | H13: 0
B14: 기 타 | C14: 0 | D14: 0 | E14: 0 | F14: 0 | G14: 0 | H14: 0
A15: 유 연 탄 | C15: 0 | D15: 0 | E15: 0 | F15: 0 | G15: 0 | H15: 0
A16: 시 멘 트 | C16: 29 | D16: 259 | E16: 22 | F16: =E16/C16*100 -> 75.862069 | G16: 237 | H16: =G16/D16*100 -> 91.505792
A17: 슬 래 그 | C17: 0 | D17: 0 | E17: 0 | F17: 0 | G17: 0 | H17: 0
A18: 광 석 류 | C18: 18 | D18: 143 | E18: 13 | F18: =E18/C18*100 -> 72.222222 | G18: 114 | H18: =G18/D18*100 -> 79.72028
A19: 모 래 | C19: 0 | D19: 0 | E19: 0 | F19: 0 | G19: 0 | H19: 0
A20: 원 목 | C20: 0 | D20: 11 | E20: =E49+E78+E107 -> 2 | F20: 0 | G20: =G49+G78+G107 -> 5 | H20: =G20/D20*100 -> 45.454545
A21: 목재및목탄 | C21: 0 | D21: 0 | E21: 0 | F21: 0 | G21: 2 | H21: 0
A22: 펄 프 | C22: 0 | D22: 0 | E22: 0 | F22: 0 | G22: 0 | H22: 0
A23: 고 철 | C23: 0 | D23: 0 | E23: 0 | F23: 0 | G23: 0 | H23: 0
A24: 철 강 류 | C24: 0 | D24: 0 | E24: 0 | F24: 0 | G24: 0 | H24: 0
A25: 차량및부품 | C25: 0 | D25: 0 | E25: 0 | F25: 0 | G25: 0 | H25: 0
A26: 화공생산품 | C26: =C55+C84+C113 -> 0 | D26: 0 | E26: =E55+E84+E113 -> 0 | F26: 0 | G26: =G55+G84+G113 -> 0 | H26: 0
A27: 당 류 | C27: 0 | D27: 0 | E27: 0 | F27: 0 | G27: 0 | H27: 0
A28: 비 료 | C28: 19 | D28: 170 | E28: 16 | F28: =E28/C28*100 -> 84.210526 | G28: 169 | H28: =G28/D28*100 -> 99.411765
A29: 유 류 | C29: 0 | D29: 0 | E29: 0 | F29: 0 | G29: 0 | H29: 0
A30: 기 타 | C30: 0 | D30: 1 | E30: 0 | F30: 0 | G30: 1 | H30: =G30/D30*100 -> 100
A32: ◇ 수 입
G33: (단위 : 천톤, %)
A34: 구 분 | C34: 2024년도 | E34: 2025년도
D35: 1-12월 | G35: 1-12월
C36: 12월 | D36: 누계 | E36: 12월 | F36: 전년 대비 (%) | G36: 누계 | H36: 전년 대비 (%)
A37: 합 계 | C37: =SUM(C44:C59) -> 35 | D37: =SUM(D44:D59) -> 249 | E37: =SUM(E44:E59) -> 24 | F37: =E37/C37*100 -> 68.571429 | G37: =SUM(G44:G59) -> 227 | H37: =G37/D37*100 -> 91.164659
A38: 양 곡 | C38: 0 | D38: 0 | E38: 0 | F38: 0 | G38: 0 | H38: 0
B39: 옥수수 | C39: 0 | D39: 0 | E39: 0 | F39: 0 | G39: 0 | H39: 0
B40: 기 타 | C40: 0 | D40: 0 | E40: 0 | F40: 0 | G40: 0 | H40: 0
A41: 사 료 | C41: 0 | D41: 0 | E41: 0 | F41: 0 | G41: 0 | H41: 0
B42: 옥수수 | C42: 0 | D42: 0 | E42: 0 | F42: 0 | G42: 0 | H42: 0
...

Sheet 기타
A1: 군산항 (월,누계) 당월 계산용
A2: 합계 | B2: 수입 | C2: 수출 | D2: 연안 | E2: 합계 | F2: 수입 | G2: 수출 | H2: 연안
A3: =SUM(A4,A7,A10:A25) -> 20059 | B3: 13890 | C3: 2663 | D3: 3506 | E3: =SUM(E4,E7,E10:E25) -> 19644 | F3: 13306 | G3: 3040 | H3: 3298 | I3: 합 계
A4: =B4+C4+D4 -> 879 | B4: 839 | C4: 39 | D4: 1 | E4: =F4+G4+H4 -> 719 | F4: 660 | G4: 59 | H4: 0 | I4: 양 곡
A5: =B5+C5+D5 -> 712 | B5: 712 | C5: 0 | D5: 0 | E5: =F5+G5+H5 -> 551 | F5: 551 | G5: 0 | H5: 0 | J5: 옥수수
A6: =B6+C6+D6 -> 167 | B6: =B4-B5 -> 127 | C6: =C4-C5 -> 39 | D6: =D4-D5 -> 1 | E6: =F6+G6+H6 -> 168 | F6: =F4-F5 -> 109 | G6: =G4-G5 -> 59 | H6: =H4-H5 -> 0 | J6: 기 타
A7: =B7+C7+D7 -> 5184 | B7: 5130 | C7: 15 | D7: 39 | E7: =F7+G7+H7 -> 4993 | F7: 4908 | G7: 18 | H7: 67 | I7: 사 료
A8: =B8+C8+D8 -> 2700 | B8: 2665 | C8: 0 | D8: 35 | E8: =F8+G8+H8 -> 2622 | F8: 2557 | G8: 0 | H8: 65 | J8: 옥수수
A9: =B9+C9+D9 -> 2484 | B9: =B7-B8 -> 2465 | C9: =C7-C8 -> 15 | D9: =D7-D8 -> 4 | E9: =F9+G9+H9 -> 2371 | F9: =F7-F8 -> 2351 | G9: =G7-G8 -> 18 | H9: =H7-H8 -> 2 | J9: 기 타
A10: =B10+C10+D10 -> 2334 | B10: 1506 | C10: 0 | D10: 828 | E10: =F10+G10+H10 -> 2268 | F10: 1470 | G10: 0 | H10: 798 | I10: 유 연 탄
A11: =B11+C11+D11 -> 1147 | B11: 0 | C11: 0 | D11: 1147 | E11: =F11+G11+H11 -> 848 | F11: 0 | G11: 0 | H11: 848 | I11: 시 멘 트
A12: =B12+C12+D12 -> 408 | B12: 140 | C12: 0 | D12: 268 | E12: =F12+G12+H12 -> 280 | F12: 62 | G12: 0 | H12: 218 | I12: 슬 래 그
A13: =B13+C13+D13 -> 632 | B13: 543 | C13: 2 | D13: 87 | E13: =F13+G13+H13 -> 714 | F13: 555 | G13: 3 | H13: 156 | I13: 광 석 류
A14: =B14+C14+D14 -> 32 | B14: 0 | C14: 0 | D14: 32 | E14: =F14+G14+H14 -> 174 | F14: 0 | G14: 0 | H14: 174 | I14: 모 래
A15: =B15+C15+D15 -> 357 | B15: 357 | C15: 0 | D15: 0 | E15: =F15+G15+H15 -> 354 | F15: 354 | G15: 0 | H15: 0 | I15: 원 목
A16: =B16+C16+D16 -> 1014 | B16: 851 | C16: 160 | D16: 3 | E16: =F16+G16+H16 -> 559 | F16: 474 | G16: 83 | H16: 2 | I16: 목재및목탄
A17: =B17+C17+D17 -> 685 | B17: 685 | C17: 0 | D17: 0 | E17: =F17+G17+H17 -> 647 | F17: 647 | G17: 0 | H17: 0 | I17: 펄 프
A18: =B18+C18+D18 -> 248 | B18: 231 | C18: 3 | D18: 14 | E18: =F18+G18+H18 -> 277 | F18: 253 | G18: 0 | H18: 24 | I18: 고 철
A19: =B19+C19+D19 -> 500 | B19: 398 | C19: 47 | D19: 55 | E19: =F19+G19+H19 -> 375 | F19: 285 | G19: 14 | H19: 76 | I19: 철 강 류
A20: =B20+C20+D20 -> 3691 | B20: 1708 | C20: 1982 | D20: 1 | E20: =F20+G20+H20 -> 4515 | F20: 2096 | G20: 2416 | H20: 3 | I20: 차량및부품
A21: =B21+C21+D21 -> 381 | B21: 283 | C21: 51 | D21: 47 | E21: =F21+G21+H21 -> 377 | F21: 303 | G21: 29 | H21: 45 | I21: 화공생산품
... A24: =B24+C24+D24 -> 861 | B24: 1 | C24: 7 | D24: 853 | E24: =F24+G24+H24 -> 847 | F24: 5 | G24: 6 | H24: 836 | I24: 유 류
A25: =SUM(B25:D25) -> 1333 | B25: =(B3-SUM(B4,B7,B10:B24)) -> 845 | C25: =C3-C4-C7-C10-C11-C12-C13-C14-C15-C16-C17-C18-C19-C20-C21-C22-C23-C24 -> 357 | D25: =(D3-SUM(D4,D7,D10:D24)) -> 131 | E25: =SUM(F25:H25) -> 1319 | F25: =(F3-SUM(F4,F7,F10:F24)) -> 862 | G25: =G3-G4-G7-G10-G11-G12-G13-G14-G15-G16-G17-G18-G19-G20-G21-G22-G23-G24 -> 406 | H25: =(H3-SUM(H4,H7,H10:H24)) -> 51 | I25: 기 타
A26: 2024 11월말 | E26: 2025 11월말
A27: ※왼쪽부터 총괄/수입/수출/연안 순이며 전 월까지의 누계를 넣으면 됨

Sheet Sheet3

Sheet Sheet1
